BEGIN:VCALENDAR
VERSION:2.0
PRODID:-// - ECPv6.15.17.1//NONSGML v1.0//EN
CALSCALE:GREGORIAN
METHOD:PUBLISH
X-ORIGINAL-URL:https://lv50fitandfeisty.ca
X-WR-CALDESC:Events for 
REFRESH-INTERVAL;VALUE=DURATION:PT1H
X-Robots-Tag:noindex
X-PUBLISHED-TTL:PT1H
BEGIN:VTIMEZONE
TZID:America/Toronto
BEGIN:DAYLIGHT
TZOFFSETFROM:-0500
TZOFFSETTO:-0400
TZNAME:EDT
DTSTART:20240310T070000
END:DAYLIGHT
BEGIN:STANDARD
TZOFFSETFROM:-0400
TZOFFSETTO:-0500
TZNAME:EST
DTSTART:20241103T060000
END:STANDARD
BEGIN:DAYLIGHT
TZOFFSETFROM:-0500
TZOFFSETTO:-0400
TZNAME:EDT
DTSTART:20250309T070000
END:DAYLIGHT
BEGIN:STANDARD
TZOFFSETFROM:-0400
TZOFFSETTO:-0500
TZNAME:EST
DTSTART:20251102T060000
END:STANDARD
BEGIN:DAYLIGHT
TZOFFSETFROM:-0500
TZOFFSETTO:-0400
TZNAME:EDT
DTSTART:20260308T070000
END:DAYLIGHT
BEGIN:STANDARD
TZOFFSETFROM:-0400
TZOFFSETTO:-0500
TZNAME:EST
DTSTART:20261101T060000
END:STANDARD
END:VTIMEZONE
BEGIN:VEVENT
DTSTART;TZID=America/Toronto:20250930T100000
DTEND;TZID=America/Toronto:20250930T170000
DTSTAMP:20260425T133533
CREATED:20250820T123330Z
LAST-MODIFIED:20250911T171541Z
UID:10001942-1759226400-1759251600@lv50fitandfeisty.ca
SUMMARY:Golf
DESCRIPTION:Register with Larry @ 905-926-8607 by September 23rd. Fees are to be paid at the golf course.
URL:https://lv50fitandfeisty.ca/event/golf-17/
LOCATION:Roanoke Golf Club\, 610 Biesenthal Rd\, Pembroke\, ON\, K8A 6W7
CATEGORIES:Fitness,Recreation,Social
ATTACH;FMTTYPE=image/png:https://lv50fitandfeisty.ca/wp-content/uploads/2025/08/2025-Sept-Golf-Nine-and-Dine.png
ORGANIZER;CN="LV50+ Fit & Feisty":MAILTO:fitandfeisty50@gmail.com
END:VEVENT
BEGIN:VEVENT
DTSTART;TZID=America/Toronto:20250819T100000
DTEND;TZID=America/Toronto:20250819T170000
DTSTAMP:20260425T133533
CREATED:20250728T173030Z
LAST-MODIFIED:20250728T173030Z
UID:10001848-1755597600-1755622800@lv50fitandfeisty.ca
SUMMARY:Golf
DESCRIPTION:Roanoke Golf Course \nRegister by August 12th
URL:https://lv50fitandfeisty.ca/event/golf-12/
LOCATION:Roanoke Golf Club\, 610 Biesenthal Rd\, Pembroke\, ON\, K8A 6W7
CATEGORIES:Recreation,Social
ATTACH;FMTTYPE=image/jpeg:https://lv50fitandfeisty.ca/wp-content/uploads/2025/05/golf-pic-4-scaled.jpg
ORGANIZER;CN="LV50+ Fit & Feisty":MAILTO:fitandfeisty50@gmail.com
END:VEVENT
BEGIN:VEVENT
DTSTART;TZID=America/Toronto:20250722T100000
DTEND;TZID=America/Toronto:20250722T170000
DTSTAMP:20260425T133533
CREATED:20250630T135938Z
LAST-MODIFIED:20250630T135938Z
UID:10001808-1753178400-1753203600@lv50fitandfeisty.ca
SUMMARY:Golf
DESCRIPTION:Register by July15th \nRegister with Larry @ 905-926-8607 by the date indicated – fees paid at each Golf Course
URL:https://lv50fitandfeisty.ca/event/golf-7/
LOCATION:Roanoke Golf Club\, 610 Biesenthal Rd\, Pembroke\, ON\, K8A 6W7
CATEGORIES:Recreation,Social
ATTACH;FMTTYPE=image/jpeg:https://lv50fitandfeisty.ca/wp-content/uploads/2025/05/golf-pic-1-scaled.jpg
ORGANIZER;CN="LV50+ Fit & Feisty":MAILTO:fitandfeisty50@gmail.com
END:VEVENT
BEGIN:VEVENT
DTSTART;TZID=America/Toronto:20250624T100000
DTEND;TZID=America/Toronto:20250624T150000
DTSTAMP:20260425T133533
CREATED:20250526T134946Z
LAST-MODIFIED:20250526T134946Z
UID:10001752-1750759200-1750777200@lv50fitandfeisty.ca
SUMMARY:Golf
DESCRIPTION:Pay for your golf at the golf course. Check our golf schedule for information and prices at each golf course. The schedule is posted on Facebook and was sent to all member’s email. \nregister by 5pm June 17th\nRegister with Larry @ 905-926-8607
URL:https://lv50fitandfeisty.ca/event/golf-4/
LOCATION:Roanoke Golf Club\, 610 Biesenthal Rd\, Pembroke\, ON\, K8A 6W7
ATTACH;FMTTYPE=image/jpeg:https://lv50fitandfeisty.ca/wp-content/uploads/2025/05/golf-pic-4-scaled.jpg
ORGANIZER;CN="LV50+ Fit & Feisty":MAILTO:fitandfeisty50@gmail.com
END:VEVENT
END:VCALENDAR