BEGIN:VCALENDAR
VERSION:2.0
PRODID:-// - ECPv6.15.17.1//NONSGML v1.0//EN
CALSCALE:GREGORIAN
METHOD:PUBLISH
X-ORIGINAL-URL:https://lv50fitandfeisty.ca
X-WR-CALDESC:Events for 
REFRESH-INTERVAL;VALUE=DURATION:PT1H
X-Robots-Tag:noindex
X-PUBLISHED-TTL:PT1H
BEGIN:VTIMEZONE
TZID:America/Toronto
BEGIN:DAYLIGHT
TZOFFSETFROM:-0500
TZOFFSETTO:-0400
TZNAME:EDT
DTSTART:20250309T070000
END:DAYLIGHT
BEGIN:STANDARD
TZOFFSETFROM:-0400
TZOFFSETTO:-0500
TZNAME:EST
DTSTART:20251102T060000
END:STANDARD
BEGIN:DAYLIGHT
TZOFFSETFROM:-0500
TZOFFSETTO:-0400
TZNAME:EDT
DTSTART:20260308T070000
END:DAYLIGHT
BEGIN:STANDARD
TZOFFSETFROM:-0400
TZOFFSETTO:-0500
TZNAME:EST
DTSTART:20261101T060000
END:STANDARD
BEGIN:DAYLIGHT
TZOFFSETFROM:-0500
TZOFFSETTO:-0400
TZNAME:EDT
DTSTART:20270314T070000
END:DAYLIGHT
BEGIN:STANDARD
TZOFFSETFROM:-0400
TZOFFSETTO:-0500
TZNAME:EST
DTSTART:20271107T060000
END:STANDARD
END:VTIMEZONE
BEGIN:VEVENT
DTSTART;TZID=America/Toronto:20260504T083000
DTEND;TZID=America/Toronto:20260504T100000
DTSTAMP:20260424T070940
CREATED:20260423T180040Z
LAST-MODIFIED:20260423T180957Z
UID:10002761-1777883400-1777888800@lv50fitandfeisty.ca
SUMMARY:Pickleball
DESCRIPTION:Register on PlayTime Scheduler.
URL:https://lv50fitandfeisty.ca/event/pickleball-48/2026-05-04/
LOCATION:Zion Lutheran Church\, 454 Miller Street\, Pembroke\, ON\, K8A 5Z4\, Canada
CATEGORIES:Fitness
ATTACH;FMTTYPE=image/jpeg:https://lv50fitandfeisty.ca/wp-content/uploads/2025/03/pexels-lindsey-flynn-494668519-19642670-scaled.jpg
ORGANIZER;CN="LV50+ Fit & Feisty":MAILTO:fitandfeisty50@gmail.com
END:VEVENT
BEGIN:VEVENT
DTSTART;TZID=America/Toronto:20260511T083000
DTEND;TZID=America/Toronto:20260511T100000
DTSTAMP:20260424T070940
CREATED:20260423T180040Z
LAST-MODIFIED:20260423T180957Z
UID:10002762-1778488200-1778493600@lv50fitandfeisty.ca
SUMMARY:Pickleball
DESCRIPTION:Register on PlayTime Scheduler.
URL:https://lv50fitandfeisty.ca/event/pickleball-48/2026-05-11/
LOCATION:Zion Lutheran Church\, 454 Miller Street\, Pembroke\, ON\, K8A 5Z4\, Canada
CATEGORIES:Fitness
ATTACH;FMTTYPE=image/jpeg:https://lv50fitandfeisty.ca/wp-content/uploads/2025/03/pexels-lindsey-flynn-494668519-19642670-scaled.jpg
ORGANIZER;CN="LV50+ Fit & Feisty":MAILTO:fitandfeisty50@gmail.com
END:VEVENT
END:VCALENDAR