BEGIN:VCALENDAR
VERSION:2.0
PRODID:-// - ECPv6.15.17.1//NONSGML v1.0//EN
CALSCALE:GREGORIAN
METHOD:PUBLISH
X-ORIGINAL-URL:https://lv50fitandfeisty.ca
X-WR-CALDESC:Events for 
REFRESH-INTERVAL;VALUE=DURATION:PT1H
X-Robots-Tag:noindex
X-PUBLISHED-TTL:PT1H
BEGIN:VTIMEZONE
TZID:America/Toronto
BEGIN:DAYLIGHT
TZOFFSETFROM:-0500
TZOFFSETTO:-0400
TZNAME:EDT
DTSTART:20250309T070000
END:DAYLIGHT
BEGIN:STANDARD
TZOFFSETFROM:-0400
TZOFFSETTO:-0500
TZNAME:EST
DTSTART:20251102T060000
END:STANDARD
BEGIN:DAYLIGHT
TZOFFSETFROM:-0500
TZOFFSETTO:-0400
TZNAME:EDT
DTSTART:20260308T070000
END:DAYLIGHT
BEGIN:STANDARD
TZOFFSETFROM:-0400
TZOFFSETTO:-0500
TZNAME:EST
DTSTART:20261101T060000
END:STANDARD
BEGIN:DAYLIGHT
TZOFFSETFROM:-0500
TZOFFSETTO:-0400
TZNAME:EDT
DTSTART:20270314T070000
END:DAYLIGHT
BEGIN:STANDARD
TZOFFSETFROM:-0400
TZOFFSETTO:-0500
TZNAME:EST
DTSTART:20271107T060000
END:STANDARD
END:VTIMEZONE
BEGIN:VEVENT
DTSTART;TZID=America/Toronto:20260504T100000
DTEND;TZID=America/Toronto:20260504T113000
DTSTAMP:20260424T114513
CREATED:20260423T180439Z
LAST-MODIFIED:20260423T180439Z
UID:10002751-1777888800-1777894200@lv50fitandfeisty.ca
SUMMARY:Pickleball
DESCRIPTION:Register on PlayTime Scheduler.
URL:https://lv50fitandfeisty.ca/event/pickleball-49/2026-05-04/
LOCATION:Zion Lutheran Church\, 454 Miller Street\, Pembroke\, ON\, K8A 5Z4\, Canada
CATEGORIES:Fitness
ATTACH;FMTTYPE=image/jpeg:https://lv50fitandfeisty.ca/wp-content/uploads/2025/07/Pickler-puts-a-ball-on-a-pickleball-racket-scaled.jpeg
ORGANIZER;CN="LV50+ Fit & Feisty":MAILTO:fitandfeisty50@gmail.com
END:VEVENT
BEGIN:VEVENT
DTSTART;TZID=America/Toronto:20260511T100000
DTEND;TZID=America/Toronto:20260511T113000
DTSTAMP:20260424T114513
CREATED:20260423T180439Z
LAST-MODIFIED:20260423T180439Z
UID:10002752-1778493600-1778499000@lv50fitandfeisty.ca
SUMMARY:Pickleball
DESCRIPTION:Register on PlayTime Scheduler.
URL:https://lv50fitandfeisty.ca/event/pickleball-49/2026-05-11/
LOCATION:Zion Lutheran Church\, 454 Miller Street\, Pembroke\, ON\, K8A 5Z4\, Canada
CATEGORIES:Fitness
ATTACH;FMTTYPE=image/jpeg:https://lv50fitandfeisty.ca/wp-content/uploads/2025/07/Pickler-puts-a-ball-on-a-pickleball-racket-scaled.jpeg
ORGANIZER;CN="LV50+ Fit & Feisty":MAILTO:fitandfeisty50@gmail.com
END:VEVENT
BEGIN:VEVENT
DTSTART;TZID=America/Toronto:20260518T083000
DTEND;TZID=America/Toronto:20260518T100000
DTSTAMP:20260424T114513
CREATED:20260423T175917Z
LAST-MODIFIED:20260423T175917Z
UID:10002745-1779093000-1779098400@lv50fitandfeisty.ca
SUMMARY:Pickleball
DESCRIPTION:Register on PlayTime Scheduler.
URL:https://lv50fitandfeisty.ca/event/pickleball-47/2026-05-18/
LOCATION:Alice and Fraser Rec Centre\, 1 Henan Road\, Pembroke\, ON\, K8A 6W8\, Canada
CATEGORIES:Fitness
ATTACH;FMTTYPE=image/png:https://lv50fitandfeisty.ca/wp-content/uploads/2026/04/pickle-ball-bg-2.png
ORGANIZER;CN="LV50+ Fit & Feisty":MAILTO:fitandfeisty50@gmail.com
END:VEVENT
BEGIN:VEVENT
DTSTART;TZID=America/Toronto:20260518T100000
DTEND;TZID=America/Toronto:20260518T113000
DTSTAMP:20260424T114513
CREATED:20260423T180525Z
LAST-MODIFIED:20260423T180525Z
UID:10002755-1779098400-1779103800@lv50fitandfeisty.ca
SUMMARY:Pickleball
DESCRIPTION:Register on PlayTime Scheduler.
URL:https://lv50fitandfeisty.ca/event/pickleball-50/2026-05-18/
LOCATION:Alice and Fraser Rec Centre\, 1 Henan Road\, Pembroke\, ON\, K8A 6W8\, Canada
CATEGORIES:Fitness
ATTACH;FMTTYPE=image/jpeg:https://lv50fitandfeisty.ca/wp-content/uploads/2025/07/Pickler-puts-a-ball-on-a-pickleball-racket-scaled.jpeg
ORGANIZER;CN="LV50+ Fit & Feisty":MAILTO:fitandfeisty50@gmail.com
END:VEVENT
BEGIN:VEVENT
DTSTART;TZID=America/Toronto:20260525T083000
DTEND;TZID=America/Toronto:20260525T100000
DTSTAMP:20260424T114513
CREATED:20260423T175917Z
LAST-MODIFIED:20260423T175917Z
UID:10002746-1779697800-1779703200@lv50fitandfeisty.ca
SUMMARY:Pickleball
DESCRIPTION:Register on PlayTime Scheduler.
URL:https://lv50fitandfeisty.ca/event/pickleball-47/2026-05-25/
LOCATION:Alice and Fraser Rec Centre\, 1 Henan Road\, Pembroke\, ON\, K8A 6W8\, Canada
CATEGORIES:Fitness
ATTACH;FMTTYPE=image/png:https://lv50fitandfeisty.ca/wp-content/uploads/2026/04/pickle-ball-bg-2.png
ORGANIZER;CN="LV50+ Fit & Feisty":MAILTO:fitandfeisty50@gmail.com
END:VEVENT
BEGIN:VEVENT
DTSTART;TZID=America/Toronto:20260525T100000
DTEND;TZID=America/Toronto:20260525T113000
DTSTAMP:20260424T114513
CREATED:20260423T180525Z
LAST-MODIFIED:20260423T180525Z
UID:10002756-1779703200-1779708600@lv50fitandfeisty.ca
SUMMARY:Pickleball
DESCRIPTION:Register on PlayTime Scheduler.
URL:https://lv50fitandfeisty.ca/event/pickleball-50/2026-05-25/
LOCATION:Alice and Fraser Rec Centre\, 1 Henan Road\, Pembroke\, ON\, K8A 6W8\, Canada
CATEGORIES:Fitness
ATTACH;FMTTYPE=image/jpeg:https://lv50fitandfeisty.ca/wp-content/uploads/2025/07/Pickler-puts-a-ball-on-a-pickleball-racket-scaled.jpeg
ORGANIZER;CN="LV50+ Fit & Feisty":MAILTO:fitandfeisty50@gmail.com
END:VEVENT
END:VCALENDAR