BEGIN:VCALENDAR
VERSION:2.0
PRODID:-// - ECPv6.15.17.1//NONSGML v1.0//EN
CALSCALE:GREGORIAN
METHOD:PUBLISH
X-ORIGINAL-URL:https://lv50fitandfeisty.ca
X-WR-CALDESC:Events for 
REFRESH-INTERVAL;VALUE=DURATION:PT1H
X-Robots-Tag:noindex
X-PUBLISHED-TTL:PT1H
BEGIN:VTIMEZONE
TZID:America/Toronto
BEGIN:DAYLIGHT
TZOFFSETFROM:-0500
TZOFFSETTO:-0400
TZNAME:EDT
DTSTART:20250309T070000
END:DAYLIGHT
BEGIN:STANDARD
TZOFFSETFROM:-0400
TZOFFSETTO:-0500
TZNAME:EST
DTSTART:20251102T060000
END:STANDARD
BEGIN:DAYLIGHT
TZOFFSETFROM:-0500
TZOFFSETTO:-0400
TZNAME:EDT
DTSTART:20260308T070000
END:DAYLIGHT
BEGIN:STANDARD
TZOFFSETFROM:-0400
TZOFFSETTO:-0500
TZNAME:EST
DTSTART:20261101T060000
END:STANDARD
BEGIN:DAYLIGHT
TZOFFSETFROM:-0500
TZOFFSETTO:-0400
TZNAME:EDT
DTSTART:20270314T070000
END:DAYLIGHT
BEGIN:STANDARD
TZOFFSETFROM:-0400
TZOFFSETTO:-0500
TZNAME:EST
DTSTART:20271107T060000
END:STANDARD
END:VTIMEZONE
BEGIN:VEVENT
DTSTART;TZID=America/Toronto:20260511T100000
DTEND;TZID=America/Toronto:20260511T113000
DTSTAMP:20260425T062820
CREATED:20260423T180439Z
LAST-MODIFIED:20260423T180439Z
UID:10002752-1778493600-1778499000@lv50fitandfeisty.ca
SUMMARY:Pickleball
DESCRIPTION:Register on PlayTime Scheduler.
URL:https://lv50fitandfeisty.ca/event/pickleball-49/2026-05-11/
LOCATION:Zion Lutheran Church\, 454 Miller Street\, Pembroke\, ON\, K8A 5Z4\, Canada
CATEGORIES:Fitness
ATTACH;FMTTYPE=image/jpeg:https://lv50fitandfeisty.ca/wp-content/uploads/2025/07/Pickler-puts-a-ball-on-a-pickleball-racket-scaled.jpeg
ORGANIZER;CN="LV50+ Fit & Feisty":MAILTO:fitandfeisty50@gmail.com
END:VEVENT
BEGIN:VEVENT
DTSTART;TZID=America/Toronto:20260511T103000
DTEND;TZID=America/Toronto:20260511T133000
DTSTAMP:20260425T062820
CREATED:20260424T200252Z
LAST-MODIFIED:20260424T200252Z
UID:10002796-1778495400-1778506200@lv50fitandfeisty.ca
SUMMARY:Golf
DESCRIPTION:Register with Larry call/text 905-926-8607
URL:https://lv50fitandfeisty.ca/event/golf-19/
LOCATION:Oaks of Cobden Golf Club\, 1725 Kohlsmith Rd\, Cobden\, ON\, K0J 1K0
ATTACH;FMTTYPE=image/jpeg:https://lv50fitandfeisty.ca/wp-content/uploads/2025/05/golf-pic-2-scaled.jpg
ORGANIZER;CN="LV50+ Fit & Feisty":MAILTO:fitandfeisty50@gmail.com
END:VEVENT
BEGIN:VEVENT
DTSTART;TZID=America/Toronto:20260511T180000
DTEND;TZID=America/Toronto:20260511T193000
DTSTAMP:20260425T062820
CREATED:20260423T175347Z
LAST-MODIFIED:20260423T175443Z
UID:10002736-1778522400-1778527800@lv50fitandfeisty.ca
SUMMARY:Pickleball
DESCRIPTION:Register on PlayTime Scheduler.
URL:https://lv50fitandfeisty.ca/event/pickleball-44/2026-05-11/
LOCATION:Zion Lutheran Church\, 454 Miller Street\, Pembroke\, ON\, K8A 5Z4\, Canada
CATEGORIES:Fitness
ATTACH;FMTTYPE=image/png:https://lv50fitandfeisty.ca/wp-content/uploads/2026/04/pickle-ball-bg-1.png
ORGANIZER;CN="LV50+ Fit & Feisty":MAILTO:fitandfeisty50@gmail.com
END:VEVENT
BEGIN:VEVENT
DTSTART;TZID=America/Toronto:20260512T090000
DTEND;TZID=America/Toronto:20260512T094500
DTSTAMP:20260425T062820
CREATED:20260309T195900Z
LAST-MODIFIED:20260309T200100Z
UID:10002629-1778576400-1778579100@lv50fitandfeisty.ca
SUMMARY:Drums/Cardio Session 5
DESCRIPTION:To Register CLICK HERE
URL:https://lv50fitandfeisty.ca/event/drums-cardio-session-5-3/2026-05-12/
LOCATION:Pembroke Fitness Centre\, 1 International Dr\, Pembroke\, ON\, K8A 6W5\, Canada
CATEGORIES:Fitness
ATTACH;FMTTYPE=image/png:https://lv50fitandfeisty.ca/wp-content/uploads/2026/03/2026-April-7-June-9-Tuesday-Morning.png
ORGANIZER;CN="LV50+ Fit & Feisty":MAILTO:fitandfeisty50@gmail.com
END:VEVENT
BEGIN:VEVENT
DTSTART;TZID=America/Toronto:20260512T090000
DTEND;TZID=America/Toronto:20260512T103000
DTSTAMP:20260425T062820
CREATED:20260423T180812Z
LAST-MODIFIED:20260423T180903Z
UID:10002760-1778576400-1778581800@lv50fitandfeisty.ca
SUMMARY:Pickleball
DESCRIPTION:Register on PlayTime Scheduler.
URL:https://lv50fitandfeisty.ca/event/pickleball-51/2026-05-12/
LOCATION:Wesley United Church\, 275 Pembroke Street East\, Pembroke\, ON\, K8A 3J9\, Canada
CATEGORIES:Fitness
ATTACH;FMTTYPE=image/png:https://lv50fitandfeisty.ca/wp-content/uploads/2026/04/pickle-ball-ladies.png
ORGANIZER;CN="LV50+ Fit & Feisty":MAILTO:fitandfeisty50@gmail.com
END:VEVENT
BEGIN:VEVENT
DTSTART;TZID=America/Toronto:20260512T093000
DTEND;TZID=America/Toronto:20260512T103000
DTSTAMP:20260425T062820
CREATED:20260424T195214Z
LAST-MODIFIED:20260424T195214Z
UID:10002791-1778578200-1778581800@lv50fitandfeisty.ca
SUMMARY:Cycling
DESCRIPTION:
URL:https://lv50fitandfeisty.ca/event/cycling-17/
LOCATION:Troyes Cinema\, 51 Festubert Boulevard\, Petawawa\, ON\, K8H 1N2
ATTACH;FMTTYPE=image/jpeg:https://lv50fitandfeisty.ca/wp-content/uploads/2025/05/group-cycling.jpg
ORGANIZER;CN="LV50+ Fit & Feisty":MAILTO:fitandfeisty50@gmail.com
END:VEVENT
BEGIN:VEVENT
DTSTART;TZID=America/Toronto:20260512T110000
DTEND;TZID=America/Toronto:20260512T120000
DTSTAMP:20260425T062820
CREATED:20260326T205211Z
LAST-MODIFIED:20260326T205211Z
UID:10002716-1778583600-1778587200@lv50fitandfeisty.ca
SUMMARY:Pickleball
DESCRIPTION:Bring indoor shoes.   Register on PlayTime Scheduler.
URL:https://lv50fitandfeisty.ca/event/pickleball-43/2026-05-12/
LOCATION:Wesley United Church\, 275 Pembroke Street East\, Pembroke\, ON\, K8A 3J9\, Canada
ATTACH;FMTTYPE=image/jpeg:https://lv50fitandfeisty.ca/wp-content/uploads/2025/02/ben-hershey-J0OKd9h_aLQ-unsplash-scaled.jpg
ORGANIZER;CN="LV50+ Fit & Feisty":MAILTO:fitandfeisty50@gmail.com
END:VEVENT
BEGIN:VEVENT
DTSTART;TZID=America/Toronto:20260512T120000
DTEND;TZID=America/Toronto:20260512T130000
DTSTAMP:20260425T062820
CREATED:20260309T194214Z
LAST-MODIFIED:20260318T141615Z
UID:10002600-1778587200-1778590800@lv50fitandfeisty.ca
SUMMARY:Chair Yoga Session 5
DESCRIPTION:To Register CLICK HERE
URL:https://lv50fitandfeisty.ca/event/chair-yoga-session-5-2/2026-05-12/
LOCATION:Active Chiropractic Family Health\, 1169 Pembroke Street East\, Pembroke\, ON\, K8A 7R4
CATEGORIES:Fitness
ATTACH;FMTTYPE=image/png:https://lv50fitandfeisty.ca/wp-content/uploads/2026/03/2026-Chair-Yoga-Session-5-9-week.png
ORGANIZER;CN="LV50+ Fit & Feisty":MAILTO:fitandfeisty50@gmail.com
END:VEVENT
BEGIN:VEVENT
DTSTART;TZID=America/Toronto:20260512T120000
DTEND;TZID=America/Toronto:20260512T150000
DTSTAMP:20260425T062820
CREATED:20260126T163618Z
LAST-MODIFIED:20260424T194727Z
UID:10002786-1778587200-1778598000@lv50fitandfeisty.ca
SUMMARY:Cornhole
DESCRIPTION:Bring indoor shoes!
URL:https://lv50fitandfeisty.ca/event/cornhole-5/2026-05-12/
LOCATION:Knights of Columbus\, 170 Ellis Avenue\, Pembroke\, ON
CATEGORIES:Fitness,Recreation
ATTACH;FMTTYPE=image/jpeg:https://lv50fitandfeisty.ca/wp-content/uploads/2025/02/corn-hole.jpg
ORGANIZER;CN="LV50+ Fit & Feisty":MAILTO:fitandfeisty50@gmail.com
END:VEVENT
BEGIN:VEVENT
DTSTART;TZID=America/Toronto:20260512T133000
DTEND;TZID=America/Toronto:20260512T143000
DTSTAMP:20260425T062820
CREATED:20260309T200452Z
LAST-MODIFIED:20260310T190839Z
UID:10002649-1778592600-1778596200@lv50fitandfeisty.ca
SUMMARY:Yoga Session 5
DESCRIPTION:To Register CLICK HERE
URL:https://lv50fitandfeisty.ca/event/yoga-session-5-2/2026-05-12/
LOCATION:Wesley United Church\, 275 Pembroke Street East\, Pembroke\, ON\, K8A 3J9\, Canada
CATEGORIES:Fitness
ATTACH;FMTTYPE=image/png:https://lv50fitandfeisty.ca/wp-content/uploads/2026/03/2026-April-to-June-session-5-2.png
ORGANIZER;CN="LV50+ Fit & Feisty":MAILTO:fitandfeisty50@gmail.com
END:VEVENT
BEGIN:VEVENT
DTSTART;TZID=America/Toronto:20260513T090000
DTEND;TZID=America/Toronto:20260513T100000
DTSTAMP:20260425T062820
CREATED:20251224T161723Z
LAST-MODIFIED:20260424T194617Z
UID:10002782-1778662800-1778666400@lv50fitandfeisty.ca
SUMMARY:Morning Walking
DESCRIPTION:Join us for a morning walk at the Rec Centre. Then stay and enjoy a coffee!
URL:https://lv50fitandfeisty.ca/event/morning-walking-2/2026-05-13/
LOCATION:Alice and Fraser Rec Centre\, 1 Henan Road\, Pembroke\, ON\, K8A 6W8\, Canada
CATEGORIES:Fitness,Social
ATTACH;FMTTYPE=image/jpeg:https://lv50fitandfeisty.ca/wp-content/uploads/2025/05/walking-pic-1.jpg
ORGANIZER;CN="LV50+ Fit & Feisty":MAILTO:fitandfeisty50@gmail.com
END:VEVENT
BEGIN:VEVENT
DTSTART;TZID=America/Toronto:20260513T100000
DTEND;TZID=America/Toronto:20260513T113000
DTSTAMP:20260425T062820
CREATED:20260424T202337Z
LAST-MODIFIED:20260424T202337Z
UID:10002800-1778666400-1778671800@lv50fitandfeisty.ca
SUMMARY:Coffee Connect
DESCRIPTION:SPCA and Humane Society – Heather Jobe
URL:https://lv50fitandfeisty.ca/event/coffee-connect-35/
LOCATION:Shady Nook Rec Centre\, 80 Richardson Crescent\, Pembroke\, ON\, K8A 6W5
ATTACH;FMTTYPE=image/png:https://lv50fitandfeisty.ca/wp-content/uploads/2026/02/coffee-pic-scaled.png
ORGANIZER;CN="LV50+ Fit & Feisty":MAILTO:fitandfeisty50@gmail.com
END:VEVENT
BEGIN:VEVENT
DTSTART;TZID=America/Toronto:20260513T130000
DTEND;TZID=America/Toronto:20260513T140000
DTSTAMP:20260425T062820
CREATED:20260309T193435Z
LAST-MODIFIED:20260309T193435Z
UID:10002592-1778677200-1778680800@lv50fitandfeisty.ca
SUMMARY:Aquafit Session 5
DESCRIPTION:To Register CLICK HERE
URL:https://lv50fitandfeisty.ca/event/aquafit-session-5-2/2026-05-13/
LOCATION:Kinsmen Pool\, 424 Herbert Street\, Pembroke\, ON\, K8A 2Y6
CATEGORIES:Fitness
ATTACH;FMTTYPE=image/png:https://lv50fitandfeisty.ca/wp-content/uploads/2026/03/2026-April-May-Aqua-Fit.png
ORGANIZER;CN="LV50+ Fit & Feisty":MAILTO:fitandfeisty50@gmail.com
END:VEVENT
BEGIN:VEVENT
DTSTART;TZID=America/Toronto:20260514T090000
DTEND;TZID=America/Toronto:20260514T094500
DTSTAMP:20260425T062820
CREATED:20260309T195331Z
LAST-MODIFIED:20260319T190626Z
UID:10002620-1778749200-1778751900@lv50fitandfeisty.ca
SUMMARY:Drums/Cardio Morning Session 5
DESCRIPTION:To Register CLICK HERE
URL:https://lv50fitandfeisty.ca/event/drums-cardio-morning-session-5-2/2026-05-14/
LOCATION:Pembroke Fitness Centre\, 1 International Dr\, Pembroke\, ON\, K8A 6W5\, Canada
CATEGORIES:Fitness
ATTACH;FMTTYPE=image/png:https://lv50fitandfeisty.ca/wp-content/uploads/2026/03/2026-April-June-Thurs-Drums-morning.png
ORGANIZER;CN="LV50+ Fit & Feisty":MAILTO:fitandfeisty50@gmail.com
END:VEVENT
BEGIN:VEVENT
DTSTART;TZID=America/Toronto:20260514T130000
DTEND;TZID=America/Toronto:20260514T150000
DTSTAMP:20260425T062820
CREATED:20251224T163753Z
LAST-MODIFIED:20260424T192644Z
UID:10002663-1778763600-1778770800@lv50fitandfeisty.ca
SUMMARY:Shuffleboard
DESCRIPTION:Bring indoor shoes
URL:https://lv50fitandfeisty.ca/event/shuffleboard-4/2026-05-14/
LOCATION:St Timothy’s Lutheran Church\, 503 Alfred Street\, Pembroke\, ON\, K8A 3B6\, Canada
CATEGORIES:Fitness,Recreation
ATTACH;FMTTYPE=image/png:https://lv50fitandfeisty.ca/wp-content/uploads/2025/12/Shuffleboard-Starts-back-up-on-January-8-2026.png
ORGANIZER;CN="LV50+ Fit & Feisty":MAILTO:fitandfeisty50@gmail.com
END:VEVENT
BEGIN:VEVENT
DTSTART;TZID=America/Toronto:20260514T133000
DTEND;TZID=America/Toronto:20260514T153000
DTSTAMP:20260425T062820
CREATED:20260424T195843Z
LAST-MODIFIED:20260424T195843Z
UID:10002793-1778765400-1778772600@lv50fitandfeisty.ca
SUMMARY:Kayaking/Canoeing
DESCRIPTION:Contacts for questions Heather 613 633 8196 or Debbie 613 717 9442\nRound Lake Road\, 25km west of Alice General Store
URL:https://lv50fitandfeisty.ca/event/kayaking-canoeing-2/
LOCATION:Jack’s Lake\, Round Lake Road\, Killaloe\, ON
ATTACH;FMTTYPE=image/jpeg:https://lv50fitandfeisty.ca/wp-content/uploads/2025/03/ali-kazal-5PQb3_nA5zY-unsplash-scaled.jpg
ORGANIZER;CN="LV50+ Fit & Feisty":MAILTO:fitandfeisty50@gmail.com
END:VEVENT
BEGIN:VEVENT
DTSTART;TZID=America/Toronto:20260514T180000
DTEND;TZID=America/Toronto:20260514T193000
DTSTAMP:20260425T062820
CREATED:20260423T181901Z
LAST-MODIFIED:20260423T181901Z
UID:10002766-1778781600-1778787000@lv50fitandfeisty.ca
SUMMARY:Pickleball
DESCRIPTION:Register on PlayTime Scheduler.
URL:https://lv50fitandfeisty.ca/event/pickleball-53/2026-05-14/
LOCATION:Jeanne-Lajoie Catholic School\, 1255 Pembroke Street West\, Pembroke\, ON\, K8A 5R3\, Canada
CATEGORIES:Fitness
ATTACH;FMTTYPE=image/png:https://lv50fitandfeisty.ca/wp-content/uploads/2026/04/pickle-ball-paddles-and-balls.png
ORGANIZER;CN="LV50+ Fit & Feisty":MAILTO:fitandfeisty50@gmail.com
END:VEVENT
BEGIN:VEVENT
DTSTART;TZID=America/Toronto:20260514T183000
DTEND;TZID=America/Toronto:20260514T191500
DTSTAMP:20260425T062820
CREATED:20260309T194842Z
LAST-MODIFIED:20260309T195505Z
UID:10002610-1778783400-1778786100@lv50fitandfeisty.ca
SUMMARY:Drums/Cardio Evenings Session 5
DESCRIPTION:To Register CLICK HERE
URL:https://lv50fitandfeisty.ca/event/drums-cardio-session-5/2026-05-14/
LOCATION:Pembroke Fitness Centre\, 1 International Dr\, Pembroke\, ON\, K8A 6W5\, Canada
CATEGORIES:Fitness,Recreation
ATTACH;FMTTYPE=image/png:https://lv50fitandfeisty.ca/wp-content/uploads/2026/03/2026-April-June-Drums-Alive-Thurs-Evening.png
ORGANIZER;CN="LV50+ Fit & Feisty":MAILTO:fitandfeisty50@gmail.com
END:VEVENT
BEGIN:VEVENT
DTSTART;TZID=America/Toronto:20260514T193000
DTEND;TZID=America/Toronto:20260514T210000
DTSTAMP:20260425T062820
CREATED:20260424T191832Z
LAST-MODIFIED:20260424T191832Z
UID:10002768-1778787000-1778792400@lv50fitandfeisty.ca
SUMMARY:Pickleball
DESCRIPTION:Register on PlayTime Scheduler.
URL:https://lv50fitandfeisty.ca/event/pickleball-54/2026-05-14/
LOCATION:Jeanne-Lajoie Catholic School\, 1255 Pembroke Street West\, Pembroke\, ON\, K8A 5R3\, Canada
CATEGORIES:Fitness
ATTACH;FMTTYPE=image/jpeg:https://lv50fitandfeisty.ca/wp-content/uploads/2025/07/pickleball-paddles-and-balls-1-scaled.jpeg
ORGANIZER;CN="LV50+ Fit & Feisty":MAILTO:fitandfeisty50@gmail.com
END:VEVENT
BEGIN:VEVENT
DTSTART;TZID=America/Toronto:20260515T120000
DTEND;TZID=America/Toronto:20260515T140000
DTSTAMP:20260425T062820
CREATED:20260422T185953Z
LAST-MODIFIED:20260422T190944Z
UID:10002732-1778846400-1778853600@lv50fitandfeisty.ca
SUMMARY:Lunch Bunch Frescos
DESCRIPTION:To Register CLICK HERE
URL:https://lv50fitandfeisty.ca/event/lunch-bunch-frescos/
LOCATION:Fresco’s Tap & Grill\, 660 Pembroke Street East\, Pembroke\, ON\, K8A 3M1
CATEGORIES:FEATURED EVENTS,Recreation,Social
ATTACH;FMTTYPE=image/png:https://lv50fitandfeisty.ca/wp-content/uploads/2026/04/2026-May-15-Lunch-Bunch.png
ORGANIZER;CN="LV50+ Fit & Feisty":MAILTO:fitandfeisty50@gmail.com
END:VEVENT
BEGIN:VEVENT
DTSTART;TZID=America/Toronto:20260518T180000
DTEND;TZID=America/Toronto:20260518T193000
DTSTAMP:20260425T062820
CREATED:20260423T175539Z
LAST-MODIFIED:20260423T175539Z
UID:10002739-1779127200-1779132600@lv50fitandfeisty.ca
SUMMARY:Pickleball
DESCRIPTION:Register on PlayTime Scheduler.
URL:https://lv50fitandfeisty.ca/event/pickleball-45/2026-05-18/
LOCATION:Alice and Fraser Rec Centre\, 1 Henan Road\, Pembroke\, ON\, K8A 6W8\, Canada
CATEGORIES:Fitness
ATTACH;FMTTYPE=image/png:https://lv50fitandfeisty.ca/wp-content/uploads/2026/04/pickle-ball-bg-1.png
ORGANIZER;CN="LV50+ Fit & Feisty":MAILTO:fitandfeisty50@gmail.com
END:VEVENT
BEGIN:VEVENT
DTSTART;TZID=America/Toronto:20260519T090000
DTEND;TZID=America/Toronto:20260519T094500
DTSTAMP:20260425T062820
CREATED:20260309T195900Z
LAST-MODIFIED:20260309T200100Z
UID:10002630-1779181200-1779183900@lv50fitandfeisty.ca
SUMMARY:Drums/Cardio Session 5
DESCRIPTION:To Register CLICK HERE
URL:https://lv50fitandfeisty.ca/event/drums-cardio-session-5-3/2026-05-19/
LOCATION:Pembroke Fitness Centre\, 1 International Dr\, Pembroke\, ON\, K8A 6W5\, Canada
CATEGORIES:Fitness
ATTACH;FMTTYPE=image/png:https://lv50fitandfeisty.ca/wp-content/uploads/2026/03/2026-April-7-June-9-Tuesday-Morning.png
ORGANIZER;CN="LV50+ Fit & Feisty":MAILTO:fitandfeisty50@gmail.com
END:VEVENT
BEGIN:VEVENT
DTSTART;TZID=America/Toronto:20260519T090000
DTEND;TZID=America/Toronto:20260519T103000
DTSTAMP:20260425T062820
CREATED:20260424T192317Z
LAST-MODIFIED:20260424T192317Z
UID:10002769-1779181200-1779186600@lv50fitandfeisty.ca
SUMMARY:Pickleball
DESCRIPTION:
URL:https://lv50fitandfeisty.ca/event/pickleball-55/2026-05-19/
LOCATION:Alice and Fraser Rec Centre\, 1 Henan Road\, Pembroke\, ON\, K8A 6W8\, Canada
CATEGORIES:Fitness
ATTACH;FMTTYPE=image/png:https://lv50fitandfeisty.ca/wp-content/uploads/2026/04/pickle-ball-bg-2.png
ORGANIZER;CN="LV50+ Fit & Feisty":MAILTO:fitandfeisty50@gmail.com
END:VEVENT
BEGIN:VEVENT
DTSTART;TZID=America/Toronto:20260519T093000
DTEND;TZID=America/Toronto:20260519T103000
DTSTAMP:20260425T062820
CREATED:20260424T195307Z
LAST-MODIFIED:20260424T195307Z
UID:10002792-1779183000-1779186600@lv50fitandfeisty.ca
SUMMARY:Cycling
DESCRIPTION:
URL:https://lv50fitandfeisty.ca/event/cycling-18/
LOCATION:Pembroke Marina Playground\, Pembroke\, ON\, K8A 5L8
ATTACH;FMTTYPE=image/jpeg:https://lv50fitandfeisty.ca/wp-content/uploads/2025/05/group-cycling.jpg
ORGANIZER;CN="LV50+ Fit & Feisty":MAILTO:fitandfeisty50@gmail.com
END:VEVENT
BEGIN:VEVENT
DTSTART;TZID=America/Toronto:20260519T120000
DTEND;TZID=America/Toronto:20260519T130000
DTSTAMP:20260425T062820
CREATED:20260309T194214Z
LAST-MODIFIED:20260318T141615Z
UID:10002601-1779192000-1779195600@lv50fitandfeisty.ca
SUMMARY:Chair Yoga Session 5
DESCRIPTION:To Register CLICK HERE
URL:https://lv50fitandfeisty.ca/event/chair-yoga-session-5-2/2026-05-19/
LOCATION:Active Chiropractic Family Health\, 1169 Pembroke Street East\, Pembroke\, ON\, K8A 7R4
CATEGORIES:Fitness
ATTACH;FMTTYPE=image/png:https://lv50fitandfeisty.ca/wp-content/uploads/2026/03/2026-Chair-Yoga-Session-5-9-week.png
ORGANIZER;CN="LV50+ Fit & Feisty":MAILTO:fitandfeisty50@gmail.com
END:VEVENT
BEGIN:VEVENT
DTSTART;TZID=America/Toronto:20260519T120000
DTEND;TZID=America/Toronto:20260519T150000
DTSTAMP:20260425T062820
CREATED:20260126T163618Z
LAST-MODIFIED:20260424T194727Z
UID:10002787-1779192000-1779202800@lv50fitandfeisty.ca
SUMMARY:Cornhole
DESCRIPTION:Bring indoor shoes!
URL:https://lv50fitandfeisty.ca/event/cornhole-5/2026-05-19/
LOCATION:Knights of Columbus\, 170 Ellis Avenue\, Pembroke\, ON
CATEGORIES:Fitness,Recreation
ATTACH;FMTTYPE=image/jpeg:https://lv50fitandfeisty.ca/wp-content/uploads/2025/02/corn-hole.jpg
ORGANIZER;CN="LV50+ Fit & Feisty":MAILTO:fitandfeisty50@gmail.com
END:VEVENT
BEGIN:VEVENT
DTSTART;TZID=America/Toronto:20260519T133000
DTEND;TZID=America/Toronto:20260519T143000
DTSTAMP:20260425T062820
CREATED:20260309T200452Z
LAST-MODIFIED:20260310T190839Z
UID:10002650-1779197400-1779201000@lv50fitandfeisty.ca
SUMMARY:Yoga Session 5
DESCRIPTION:To Register CLICK HERE
URL:https://lv50fitandfeisty.ca/event/yoga-session-5-2/2026-05-19/
LOCATION:Wesley United Church\, 275 Pembroke Street East\, Pembroke\, ON\, K8A 3J9\, Canada
CATEGORIES:Fitness
ATTACH;FMTTYPE=image/png:https://lv50fitandfeisty.ca/wp-content/uploads/2026/03/2026-April-to-June-session-5-2.png
ORGANIZER;CN="LV50+ Fit & Feisty":MAILTO:fitandfeisty50@gmail.com
END:VEVENT
BEGIN:VEVENT
DTSTART;TZID=America/Toronto:20260519T180000
DTEND;TZID=America/Toronto:20260519T193000
DTSTAMP:20260425T062820
CREATED:20260424T192449Z
LAST-MODIFIED:20260424T192449Z
UID:10002775-1779213600-1779219000@lv50fitandfeisty.ca
SUMMARY:Pickleball
DESCRIPTION:Register on PlayTime Scheduler.
URL:https://lv50fitandfeisty.ca/event/pickleball-56/2026-05-19/
LOCATION:Alice and Fraser Rec Centre\, 1 Henan Road\, Pembroke\, ON\, K8A 6W8\, Canada
ATTACH;FMTTYPE=image/jpeg:https://lv50fitandfeisty.ca/wp-content/uploads/2025/07/pickleball-match-1-scaled.jpeg
ORGANIZER;CN="LV50+ Fit & Feisty":MAILTO:fitandfeisty50@gmail.com
END:VEVENT
BEGIN:VEVENT
DTSTART;TZID=America/Toronto:20260520T090000
DTEND;TZID=America/Toronto:20260520T100000
DTSTAMP:20260425T062820
CREATED:20251224T161723Z
LAST-MODIFIED:20260424T194617Z
UID:10002783-1779267600-1779271200@lv50fitandfeisty.ca
SUMMARY:Morning Walking
DESCRIPTION:Join us for a morning walk at the Rec Centre. Then stay and enjoy a coffee!
URL:https://lv50fitandfeisty.ca/event/morning-walking-2/2026-05-20/
LOCATION:Alice and Fraser Rec Centre\, 1 Henan Road\, Pembroke\, ON\, K8A 6W8\, Canada
CATEGORIES:Fitness,Social
ATTACH;FMTTYPE=image/jpeg:https://lv50fitandfeisty.ca/wp-content/uploads/2025/05/walking-pic-1.jpg
ORGANIZER;CN="LV50+ Fit & Feisty":MAILTO:fitandfeisty50@gmail.com
END:VEVENT
BEGIN:VEVENT
DTSTART;TZID=America/Toronto:20260520T090000
DTEND;TZID=America/Toronto:20260520T103000
DTSTAMP:20260425T062820
CREATED:20260424T192317Z
LAST-MODIFIED:20260424T192317Z
UID:10002770-1779267600-1779273000@lv50fitandfeisty.ca
SUMMARY:Pickleball
DESCRIPTION:
URL:https://lv50fitandfeisty.ca/event/pickleball-55/2026-05-20/
LOCATION:Alice and Fraser Rec Centre\, 1 Henan Road\, Pembroke\, ON\, K8A 6W8\, Canada
CATEGORIES:Fitness
ATTACH;FMTTYPE=image/png:https://lv50fitandfeisty.ca/wp-content/uploads/2026/04/pickle-ball-bg-2.png
ORGANIZER;CN="LV50+ Fit & Feisty":MAILTO:fitandfeisty50@gmail.com
END:VEVENT
END:VCALENDAR