BEGIN:VCALENDAR
VERSION:2.0
PRODID:-// - ECPv6.15.17.1//NONSGML v1.0//EN
CALSCALE:GREGORIAN
METHOD:PUBLISH
X-ORIGINAL-URL:https://lv50fitandfeisty.ca
X-WR-CALDESC:Events for 
REFRESH-INTERVAL;VALUE=DURATION:PT1H
X-Robots-Tag:noindex
X-PUBLISHED-TTL:PT1H
BEGIN:VTIMEZONE
TZID:America/Toronto
BEGIN:DAYLIGHT
TZOFFSETFROM:-0500
TZOFFSETTO:-0400
TZNAME:EDT
DTSTART:20240310T070000
END:DAYLIGHT
BEGIN:STANDARD
TZOFFSETFROM:-0400
TZOFFSETTO:-0500
TZNAME:EST
DTSTART:20241103T060000
END:STANDARD
BEGIN:DAYLIGHT
TZOFFSETFROM:-0500
TZOFFSETTO:-0400
TZNAME:EDT
DTSTART:20250309T070000
END:DAYLIGHT
BEGIN:STANDARD
TZOFFSETFROM:-0400
TZOFFSETTO:-0500
TZNAME:EST
DTSTART:20251102T060000
END:STANDARD
BEGIN:DAYLIGHT
TZOFFSETFROM:-0500
TZOFFSETTO:-0400
TZNAME:EDT
DTSTART:20260308T070000
END:DAYLIGHT
BEGIN:STANDARD
TZOFFSETFROM:-0400
TZOFFSETTO:-0500
TZNAME:EST
DTSTART:20261101T060000
END:STANDARD
END:VTIMEZONE
BEGIN:VEVENT
DTSTART;TZID=America/Toronto:20251128T173000
DTEND;TZID=America/Toronto:20251128T173000
DTSTAMP:20260425T220715
CREATED:20251028T181111Z
LAST-MODIFIED:20251028T181356Z
UID:10002193-1764351000-1764351000@lv50fitandfeisty.ca
SUMMARY:A Country Christmas Party
DESCRIPTION:Time: 5:30 pm doors open\, 6:30 pm dinner\, music 8:30 pm to 12 midnight\nWhere: Germania Club\, 15 Bennett St\, Pembroke\n\nCost: $50.00 – Members\n         $60.00 – Non-Members\n****Group seating available up to a max of 12 people (not guaranteed). Include all names of people in your group during registration.**** \n\nRegistration Opens for MEMBERS only: Wednesday\, October 29\, 2025 @ 9:00 am\nRegister by email: eventsregister50fandf@gmail.com\nOr at Coffee Connect between 9:00 – 9:45 am\, and afterwards until 12:30pm\n\nNON-MEMBERS can register beginning Nov. 12th.\nRegistration Closes: November 24\, 2025.\nIf you do not attend Coffee Connect\, tickets can be picked up at the door the night of the Christmas Party.
URL:https://lv50fitandfeisty.ca/event/a-country-christmas-party/
LOCATION:Germania Club Pembroke\, 15 Bennett Street\, Pembroke\, ON\, K8A 3Y6
CATEGORIES:Entertainment,FEATURED EVENTS,Operational,Social
ATTACH;FMTTYPE=image/png:https://lv50fitandfeisty.ca/wp-content/uploads/2025/10/2025-Christmas-Party-1.png
ORGANIZER;CN="LV50+ Fit & Feisty":MAILTO:fitandfeisty50@gmail.com
END:VEVENT
END:VCALENDAR