BEGIN:VCALENDAR
VERSION:2.0
PRODID:-// - ECPv6.15.17.1//NONSGML v1.0//EN
CALSCALE:GREGORIAN
METHOD:PUBLISH
X-ORIGINAL-URL:https://lv50fitandfeisty.ca
X-WR-CALDESC:Events for 
REFRESH-INTERVAL;VALUE=DURATION:PT1H
X-Robots-Tag:noindex
X-PUBLISHED-TTL:PT1H
BEGIN:VTIMEZONE
TZID:America/Toronto
BEGIN:DAYLIGHT
TZOFFSETFROM:-0500
TZOFFSETTO:-0400
TZNAME:EDT
DTSTART:20240310T070000
END:DAYLIGHT
BEGIN:STANDARD
TZOFFSETFROM:-0400
TZOFFSETTO:-0500
TZNAME:EST
DTSTART:20241103T060000
END:STANDARD
BEGIN:DAYLIGHT
TZOFFSETFROM:-0500
TZOFFSETTO:-0400
TZNAME:EDT
DTSTART:20250309T070000
END:DAYLIGHT
BEGIN:STANDARD
TZOFFSETFROM:-0400
TZOFFSETTO:-0500
TZNAME:EST
DTSTART:20251102T060000
END:STANDARD
BEGIN:DAYLIGHT
TZOFFSETFROM:-0500
TZOFFSETTO:-0400
TZNAME:EDT
DTSTART:20260308T070000
END:DAYLIGHT
BEGIN:STANDARD
TZOFFSETFROM:-0400
TZOFFSETTO:-0500
TZNAME:EST
DTSTART:20261101T060000
END:STANDARD
END:VTIMEZONE
BEGIN:VEVENT
DTSTART;TZID=America/Toronto:20250823T100000
DTEND;TZID=America/Toronto:20250823T150000
DTSTAMP:20260420T153047
CREATED:20250728T180243Z
LAST-MODIFIED:20250728T180823Z
UID:10001867-1755943200-1755961200@lv50fitandfeisty.ca
SUMMARY:Taste of the Valley
DESCRIPTION:The second Taste of the Valley of the season takes us to a new location\, Laurentian Valley—just 10 minutes from Pembroke! This family-friendly event brings together local farmers\, producers\, artisans\, and food vendors for a one-of-a-kind shopping and tasting experience.\nExplore farm-fresh produce\, handcrafted goods\, preserves\, baking\, ready-to-eat treats\, art\, and more. It’s the perfect way to support local while enjoying the unique flavours and talents of Renfrew County.\n\nBring your appetite\, your shopping bag\, and your love for all things local. We can’t wait to see you there!\n  \n\nFREE ADMISSION\n 
URL:https://lv50fitandfeisty.ca/event/taste-of-the-valley/
LOCATION:Alice and Fraser Rec Centre\, 1 Henan Road\, Pembroke\, ON\, K8A 6W8\, Canada
CATEGORIES:Community Outreach,Entertainment,FEATURED EVENTS,Recreation,Social
ATTACH;FMTTYPE=image/png:https://lv50fitandfeisty.ca/wp-content/uploads/2025/07/taste-of-the-valley.png
ORGANIZER;CN="LV50+ Fit & Feisty":MAILTO:fitandfeisty50@gmail.com
END:VEVENT
BEGIN:VEVENT
DTSTART;TZID=America/Toronto:20250815T170000
DTEND;TZID=America/Toronto:20250815T200000
DTSTAMP:20260420T153047
CREATED:20250728T185430Z
LAST-MODIFIED:20250730T171141Z
UID:10001872-1755277200-1755288000@lv50fitandfeisty.ca
SUMMARY:LV Water and Dirty Obstacles Race
DESCRIPTION:LV Township is seeking volunteers for an upcoming Water & Dirt Kids Obstacle Race event at Hugli’s Blueberry Ranch on Friday\, August 15\, 2025\, from 5-8pm.  \nIt’s a 1.8 km obstacle course for kids ages 5-12. This fun but challenging course features 10 dynamic obstacles designed to test kids’ strength\, balance\, and grit—while having a great time! Participants will be divided into three age categories: 5-7 years old\, 8-10 years old\, and 11-12 years old\, with a limit of 50 kids per category.  \nThe three heats will start 30 minutes apart\, beginning with the first age group at 6pm. \nIf you are interested please contact: LV Township Recreation Director Navada Sargent nsargent@lvtownship.ca
URL:https://lv50fitandfeisty.ca/event/water-and-dirt-festival/
LOCATION:Hugli’s Blueberry Ranch\, 2139 Greenwood Road\, Pembroke\, ON\, K8A 6W2
CATEGORIES:Community Outreach,FEATURED EVENTS,Recreation,Social
ATTACH;FMTTYPE=image/jpeg:https://lv50fitandfeisty.ca/wp-content/uploads/2025/07/water-and-dirt-volunteers.jpg
ORGANIZER;CN="LV50+ Fit & Feisty":MAILTO:fitandfeisty50@gmail.com
END:VEVENT
BEGIN:VEVENT
DTSTART;TZID=America/Toronto:20250608T094500
DTEND;TZID=America/Toronto:20250608T153000
DTSTAMP:20260420T153047
CREATED:20250526T162925Z
LAST-MODIFIED:20250526T170238Z
UID:10001767-1749375900-1749396600@lv50fitandfeisty.ca
SUMMARY:KRISTA JOHNSON MEMORIAL RUN
DESCRIPTION:Join us by the starting line @ 9:45am.\nThe walk starts at 10am. We are registered as a group and will walk the 2k together. \nPlease wear your Fit & Feisy shirt. (We will not receive timed bibs.)
URL:https://lv50fitandfeisty.ca/event/krista-johnson-memorial-run/
LOCATION:Riverside Park\, 961 Pembroke Street West\, Pembroke\, ON
CATEGORIES:Community Outreach,Fitness
ATTACH;FMTTYPE=image/jpeg:https://lv50fitandfeisty.ca/wp-content/uploads/2025/05/Krista-Johnson-run-for-a-change-poster.jpg
ORGANIZER;CN="LV50+ Fit & Feisty":MAILTO:fitandfeisty50@gmail.com
END:VEVENT
END:VCALENDAR