BEGIN:VCALENDAR
VERSION:2.0
PRODID:-// - ECPv6.15.17.1//NONSGML v1.0//EN
CALSCALE:GREGORIAN
METHOD:PUBLISH
X-ORIGINAL-URL:https://lv50fitandfeisty.ca
X-WR-CALDESC:Events for 
REFRESH-INTERVAL;VALUE=DURATION:PT1H
X-Robots-Tag:noindex
X-PUBLISHED-TTL:PT1H
BEGIN:VTIMEZONE
TZID:America/Toronto
BEGIN:DAYLIGHT
TZOFFSETFROM:-0500
TZOFFSETTO:-0400
TZNAME:EDT
DTSTART:20250309T070000
END:DAYLIGHT
BEGIN:STANDARD
TZOFFSETFROM:-0400
TZOFFSETTO:-0500
TZNAME:EST
DTSTART:20251102T060000
END:STANDARD
BEGIN:DAYLIGHT
TZOFFSETFROM:-0500
TZOFFSETTO:-0400
TZNAME:EDT
DTSTART:20260308T070000
END:DAYLIGHT
BEGIN:STANDARD
TZOFFSETFROM:-0400
TZOFFSETTO:-0500
TZNAME:EST
DTSTART:20261101T060000
END:STANDARD
BEGIN:DAYLIGHT
TZOFFSETFROM:-0500
TZOFFSETTO:-0400
TZNAME:EDT
DTSTART:20270314T070000
END:DAYLIGHT
BEGIN:STANDARD
TZOFFSETFROM:-0400
TZOFFSETTO:-0500
TZNAME:EST
DTSTART:20271107T060000
END:STANDARD
END:VTIMEZONE
BEGIN:VEVENT
DTSTART;TZID=America/Toronto:20260325T080000
DTEND;TZID=America/Toronto:20260408T190000
DTSTAMP:20260425T063300
CREATED:20250702T140557Z
LAST-MODIFIED:20250702T140557Z
UID:10001832-1774425600-1775674800@lv50fitandfeisty.ca
SUMMARY:Portugal Trip
DESCRIPTION:Join us May 28th @7pm at the Alice and Fraser Rec Centre for an exclusive presentation.\nContact: Evan Kendrick 613.635.7000 Ext. 919 \nekendrick@travelonly.com
URL:https://lv50fitandfeisty.ca/event/portugal-trip/
LOCATION:ON
CATEGORIES:FEATURED EVENTS,Recreation,Social,Travel
ATTACH;FMTTYPE=image/jpeg:https://lv50fitandfeisty.ca/wp-content/uploads/2025/07/Portugal.jpg
ORGANIZER;CN="LV50+ Fit & Feisty":MAILTO:fitandfeisty50@gmail.com
END:VEVENT
BEGIN:VEVENT
DTSTART;TZID=America/Toronto:20260330T083000
DTEND;TZID=America/Toronto:20260330T093000
DTSTAMP:20260425T063300
CREATED:20251224T153103Z
LAST-MODIFIED:20260326T204438Z
UID:10002508-1774859400-1774863000@lv50fitandfeisty.ca
SUMMARY:Pickleball
DESCRIPTION:Bring indoor shoes.   Register on PlayTime Scheduler.
URL:https://lv50fitandfeisty.ca/event/pickleball-34/2026-03-30/
LOCATION:Zion Lutheran Church\, 454 Miller Street\, Pembroke\, ON\, K8A 5Z4\, Canada
CATEGORIES:Fitness,Recreation
ATTACH;FMTTYPE=image/jpeg:https://lv50fitandfeisty.ca/wp-content/uploads/2025/07/pickleball-paddles-and-balls-1-scaled.jpeg
ORGANIZER;CN="LV50+ Fit & Feisty":MAILTO:fitandfeisty50@gmail.com
END:VEVENT
BEGIN:VEVENT
DTSTART;TZID=America/Toronto:20260330T100000
DTEND;TZID=America/Toronto:20260330T110000
DTSTAMP:20260425T063300
CREATED:20251224T153329Z
LAST-MODIFIED:20260326T204512Z
UID:10002514-1774864800-1774868400@lv50fitandfeisty.ca
SUMMARY:Pickleball
DESCRIPTION:Bring indoor shoes.   Register on PlayTime Scheduler.
URL:https://lv50fitandfeisty.ca/event/pickleball-35/2026-03-30/
LOCATION:Zion Lutheran Church\, 454 Miller Street\, Pembroke\, ON\, K8A 5Z4\, Canada
CATEGORIES:Fitness,Recreation
ATTACH;FMTTYPE=image/jpeg:https://lv50fitandfeisty.ca/wp-content/uploads/2025/07/Pickler-puts-a-ball-on-a-pickleball-racket-scaled.jpeg
ORGANIZER;CN="LV50+ Fit & Feisty":MAILTO:fitandfeisty50@gmail.com
END:VEVENT
BEGIN:VEVENT
DTSTART;TZID=America/Toronto:20260330T130000
DTEND;TZID=America/Toronto:20260330T150000
DTSTAMP:20260425T063300
CREATED:20260218T145710Z
LAST-MODIFIED:20260218T145710Z
UID:10002566-1774875600-1774882800@lv50fitandfeisty.ca
SUMMARY:Snowshoeing
DESCRIPTION:Come out and explore the outdoors on snowshoes. Snowshoes available upon request by texting Kathy @ 613 633 1432\nPotluck snacks afterwards\, bring a favorite card or board game. Registration details to follow.\nLocations TBD
URL:https://lv50fitandfeisty.ca/event/snowshoeing-10/2026-03-30/
LOCATION:ON
CATEGORIES:Fitness,Recreation
ATTACH;FMTTYPE=image/png:https://lv50fitandfeisty.ca/wp-content/uploads/2026/02/snow-shoe-1-scaled.png
ORGANIZER;CN="LV50+ Fit & Feisty":MAILTO:fitandfeisty50@gmail.com
END:VEVENT
BEGIN:VEVENT
DTSTART;TZID=America/Toronto:20260330T133000
DTEND;TZID=America/Toronto:20260330T153000
DTSTAMP:20260425T063300
CREATED:20251224T154915Z
LAST-MODIFIED:20260326T203213Z
UID:10002523-1774877400-1774884600@lv50fitandfeisty.ca
SUMMARY:Darts and Bid Euchre
DESCRIPTION:Bring indoor shoes
URL:https://lv50fitandfeisty.ca/event/darts-and-bid-euchre-3/2026-03-30/
LOCATION:Pembroke Royal Canadian Legion\, 202 Pembroke Street East\, Pembroke\, ON\, K8A 3J7
CATEGORIES:Recreation,Social
ATTACH;FMTTYPE=image/jpeg:https://lv50fitandfeisty.ca/wp-content/uploads/2025/02/anastase-maragos-X4zx5Vc_LZU-unsplash-scaled.jpg
ORGANIZER;CN="LV50+ Fit & Feisty":MAILTO:fitandfeisty50@gmail.com
END:VEVENT
BEGIN:VEVENT
DTSTART;TZID=America/Toronto:20260330T180000
DTEND;TZID=America/Toronto:20260330T190000
DTSTAMP:20260425T063300
CREATED:20260216T180113Z
LAST-MODIFIED:20260326T204744Z
UID:10002518-1774893600-1774897200@lv50fitandfeisty.ca
SUMMARY:Pickleball
DESCRIPTION:Bring indoor shoes.   Register on PlayTime Scheduler.
URL:https://lv50fitandfeisty.ca/event/pickleball-41/2026-03-30/
LOCATION:Zion Lutheran Church\, 454 Miller Street\, Pembroke\, ON\, K8A 5Z4\, Canada
CATEGORIES:Fitness
ATTACH;FMTTYPE=image/jpeg:https://lv50fitandfeisty.ca/wp-content/uploads/2025/03/pexels-lindsey-flynn-494668519-19642670-scaled.jpg
ORGANIZER;CN="LV50+ Fit & Feisty":MAILTO:fitandfeisty50@gmail.com
END:VEVENT
END:VCALENDAR