BEGIN:VCALENDAR
VERSION:2.0
PRODID:-// - ECPv6.15.17.1//NONSGML v1.0//EN
CALSCALE:GREGORIAN
METHOD:PUBLISH
X-ORIGINAL-URL:https://lv50fitandfeisty.ca
X-WR-CALDESC:Events for 
REFRESH-INTERVAL;VALUE=DURATION:PT1H
X-Robots-Tag:noindex
X-PUBLISHED-TTL:PT1H
BEGIN:VTIMEZONE
TZID:America/Toronto
BEGIN:DAYLIGHT
TZOFFSETFROM:-0500
TZOFFSETTO:-0400
TZNAME:EDT
DTSTART:20250309T070000
END:DAYLIGHT
BEGIN:STANDARD
TZOFFSETFROM:-0400
TZOFFSETTO:-0500
TZNAME:EST
DTSTART:20251102T060000
END:STANDARD
BEGIN:DAYLIGHT
TZOFFSETFROM:-0500
TZOFFSETTO:-0400
TZNAME:EDT
DTSTART:20260308T070000
END:DAYLIGHT
BEGIN:STANDARD
TZOFFSETFROM:-0400
TZOFFSETTO:-0500
TZNAME:EST
DTSTART:20261101T060000
END:STANDARD
BEGIN:DAYLIGHT
TZOFFSETFROM:-0500
TZOFFSETTO:-0400
TZNAME:EDT
DTSTART:20270314T070000
END:DAYLIGHT
BEGIN:STANDARD
TZOFFSETFROM:-0400
TZOFFSETTO:-0500
TZNAME:EST
DTSTART:20271107T060000
END:STANDARD
END:VTIMEZONE
BEGIN:VEVENT
DTSTART;TZID=America/Toronto:20260324T090000
DTEND;TZID=America/Toronto:20260324T094500
DTSTAMP:20260424T032305
CREATED:20260120T202457Z
LAST-MODIFIED:20260120T202457Z
UID:10002433-1774342800-1774345500@lv50fitandfeisty.ca
SUMMARY:Drums Alive Cardio - TUESDAY Edition
DESCRIPTION:To Register CLICK HERE
URL:https://lv50fitandfeisty.ca/event/drums-alive-cardio-tuesday-edition-2/2026-03-24/
LOCATION:Pembroke Fitness Centre\, 1 International Dr\, Pembroke\, ON\, K8A 6W5\, Canada
CATEGORIES:Fitness
ATTACH;FMTTYPE=image/png:https://lv50fitandfeisty.ca/wp-content/uploads/2026/01/2026-Tuesday-Feb-4-Drums-AliveCardio-Dance-Revised.png
ORGANIZER;CN="LV50+ Fit & Feisty":MAILTO:fitandfeisty50@gmail.com
END:VEVENT
BEGIN:VEVENT
DTSTART;TZID=America/Toronto:20260324T090000
DTEND;TZID=America/Toronto:20260324T100000
DTSTAMP:20260424T032305
CREATED:20251224T155624Z
LAST-MODIFIED:20260216T180407Z
UID:10002527-1774342800-1774346400@lv50fitandfeisty.ca
SUMMARY:Pickleball
DESCRIPTION:Bring indoor shoes.   Register on PlayTime Scheduler.
URL:https://lv50fitandfeisty.ca/event/pickleball-38/2026-03-24/
LOCATION:Wesley United Church\, 275 Pembroke Street East\, Pembroke\, ON\, K8A 3J9\, Canada
CATEGORIES:Fitness,Recreation
ATTACH;FMTTYPE=image/jpeg:https://lv50fitandfeisty.ca/wp-content/uploads/2025/03/pexels-lindsey-flynn-494668519-19642670-scaled.jpg
ORGANIZER;CN="LV50+ Fit & Feisty":MAILTO:fitandfeisty50@gmail.com
END:VEVENT
BEGIN:VEVENT
DTSTART;TZID=America/Toronto:20260324T103000
DTEND;TZID=America/Toronto:20260324T113000
DTSTAMP:20260424T032305
CREATED:20251224T155732Z
LAST-MODIFIED:20260216T180843Z
UID:10002537-1774348200-1774351800@lv50fitandfeisty.ca
SUMMARY:Pickleball
DESCRIPTION:Bring indoor shoes.   Register on PlayTime Scheduler.
URL:https://lv50fitandfeisty.ca/event/pickleball-39/2026-03-24/
LOCATION:Wesley United Church\, 275 Pembroke Street East\, Pembroke\, ON\, K8A 3J9\, Canada
CATEGORIES:Fitness,Recreation
ATTACH;FMTTYPE=image/jpeg:https://lv50fitandfeisty.ca/wp-content/uploads/2025/02/ben-hershey-J0OKd9h_aLQ-unsplash-scaled.jpg
ORGANIZER;CN="LV50+ Fit & Feisty":MAILTO:fitandfeisty50@gmail.com
END:VEVENT
BEGIN:VEVENT
DTSTART;TZID=America/Toronto:20260324T120000
DTEND;TZID=America/Toronto:20260324T130000
DTSTAMP:20260424T032305
CREATED:20251224T161405Z
LAST-MODIFIED:20260310T132849Z
UID:10002323-1774353600-1774357200@lv50fitandfeisty.ca
SUMMARY:Chair Yoga Session 4
DESCRIPTION:Click HERE to register
URL:https://lv50fitandfeisty.ca/event/chair-yoga-session-4-2/2026-03-24/
LOCATION:Active Chiropractic Family Health\, 1169 Pembroke Street East\, Pembroke\, ON\, K8A 7R4
CATEGORIES:Fitness,Recreation
ATTACH;FMTTYPE=image/png:https://lv50fitandfeisty.ca/wp-content/uploads/2025/12/2026-Jan-Chair-Yoga.png
ORGANIZER;CN="LV50+ Fit & Feisty":MAILTO:fitandfeisty50@gmail.com
END:VEVENT
BEGIN:VEVENT
DTSTART;TZID=America/Toronto:20260324T120000
DTEND;TZID=America/Toronto:20260324T150000
DTSTAMP:20260424T032305
CREATED:20260126T163618Z
LAST-MODIFIED:20260326T203422Z
UID:10002532-1774353600-1774364400@lv50fitandfeisty.ca
SUMMARY:Cornhole
DESCRIPTION:Bring indoor shoes!
URL:https://lv50fitandfeisty.ca/event/cornhole-5/2026-03-24/
LOCATION:Knights of Columbus\, 170 Ellis Avenue\, Pembroke\, ON
CATEGORIES:Fitness,Recreation
ATTACH;FMTTYPE=image/jpeg:https://lv50fitandfeisty.ca/wp-content/uploads/2025/02/corn-hole.jpg
ORGANIZER;CN="LV50+ Fit & Feisty":MAILTO:fitandfeisty50@gmail.com
END:VEVENT
END:VCALENDAR