BEGIN:VCALENDAR
VERSION:2.0
PRODID:-// - ECPv6.15.17.1//NONSGML v1.0//EN
CALSCALE:GREGORIAN
METHOD:PUBLISH
X-ORIGINAL-URL:https://lv50fitandfeisty.ca
X-WR-CALDESC:Events for 
REFRESH-INTERVAL;VALUE=DURATION:PT1H
X-Robots-Tag:noindex
X-PUBLISHED-TTL:PT1H
BEGIN:VTIMEZONE
TZID:America/Toronto
BEGIN:DAYLIGHT
TZOFFSETFROM:-0500
TZOFFSETTO:-0400
TZNAME:EDT
DTSTART:20250309T070000
END:DAYLIGHT
BEGIN:STANDARD
TZOFFSETFROM:-0400
TZOFFSETTO:-0500
TZNAME:EST
DTSTART:20251102T060000
END:STANDARD
BEGIN:DAYLIGHT
TZOFFSETFROM:-0500
TZOFFSETTO:-0400
TZNAME:EDT
DTSTART:20260308T070000
END:DAYLIGHT
BEGIN:STANDARD
TZOFFSETFROM:-0400
TZOFFSETTO:-0500
TZNAME:EST
DTSTART:20261101T060000
END:STANDARD
BEGIN:DAYLIGHT
TZOFFSETFROM:-0500
TZOFFSETTO:-0400
TZNAME:EDT
DTSTART:20270314T070000
END:DAYLIGHT
BEGIN:STANDARD
TZOFFSETFROM:-0400
TZOFFSETTO:-0500
TZNAME:EST
DTSTART:20271107T060000
END:STANDARD
END:VTIMEZONE
BEGIN:VEVENT
DTSTART;TZID=America/Toronto:20260302T083000
DTEND;TZID=America/Toronto:20260302T093000
DTSTAMP:20260420T050536
CREATED:20251224T153103Z
LAST-MODIFIED:20260326T204438Z
UID:10002504-1772440200-1772443800@lv50fitandfeisty.ca
SUMMARY:Pickleball
DESCRIPTION:Bring indoor shoes.   Register on PlayTime Scheduler.
URL:https://lv50fitandfeisty.ca/event/pickleball-34/2026-03-02/
LOCATION:Zion Lutheran Church\, 454 Miller Street\, Pembroke\, ON\, K8A 5Z4\, Canada
CATEGORIES:Fitness,Recreation
ATTACH;FMTTYPE=image/jpeg:https://lv50fitandfeisty.ca/wp-content/uploads/2025/07/pickleball-paddles-and-balls-1-scaled.jpeg
ORGANIZER;CN="LV50+ Fit & Feisty":MAILTO:fitandfeisty50@gmail.com
END:VEVENT
BEGIN:VEVENT
DTSTART;TZID=America/Toronto:20260302T100000
DTEND;TZID=America/Toronto:20260302T110000
DTSTAMP:20260420T050536
CREATED:20251224T153329Z
LAST-MODIFIED:20260326T204512Z
UID:10002510-1772445600-1772449200@lv50fitandfeisty.ca
SUMMARY:Pickleball
DESCRIPTION:Bring indoor shoes.   Register on PlayTime Scheduler.
URL:https://lv50fitandfeisty.ca/event/pickleball-35/2026-03-02/
LOCATION:Zion Lutheran Church\, 454 Miller Street\, Pembroke\, ON\, K8A 5Z4\, Canada
CATEGORIES:Fitness,Recreation
ATTACH;FMTTYPE=image/jpeg:https://lv50fitandfeisty.ca/wp-content/uploads/2025/07/Pickler-puts-a-ball-on-a-pickleball-racket-scaled.jpeg
ORGANIZER;CN="LV50+ Fit & Feisty":MAILTO:fitandfeisty50@gmail.com
END:VEVENT
BEGIN:VEVENT
DTSTART;TZID=America/Toronto:20260302T130000
DTEND;TZID=America/Toronto:20260302T150000
DTSTAMP:20260420T050536
CREATED:20260218T145710Z
LAST-MODIFIED:20260218T145710Z
UID:10002563-1772456400-1772463600@lv50fitandfeisty.ca
SUMMARY:Snowshoeing
DESCRIPTION:Come out and explore the outdoors on snowshoes. Snowshoes available upon request by texting Kathy @ 613 633 1432\nPotluck snacks afterwards\, bring a favorite card or board game. Registration details to follow.\nLocations TBD
URL:https://lv50fitandfeisty.ca/event/snowshoeing-10/2026-03-02/
LOCATION:ON
CATEGORIES:Fitness,Recreation
ATTACH;FMTTYPE=image/png:https://lv50fitandfeisty.ca/wp-content/uploads/2026/02/snow-shoe-1-scaled.png
ORGANIZER;CN="LV50+ Fit & Feisty":MAILTO:fitandfeisty50@gmail.com
END:VEVENT
BEGIN:VEVENT
DTSTART;TZID=America/Toronto:20260302T133000
DTEND;TZID=America/Toronto:20260302T153000
DTSTAMP:20260420T050536
CREATED:20251224T154915Z
LAST-MODIFIED:20260326T203213Z
UID:10002519-1772458200-1772465400@lv50fitandfeisty.ca
SUMMARY:Darts and Bid Euchre
DESCRIPTION:Bring indoor shoes
URL:https://lv50fitandfeisty.ca/event/darts-and-bid-euchre-3/2026-03-02/
LOCATION:Pembroke Royal Canadian Legion\, 202 Pembroke Street East\, Pembroke\, ON\, K8A 3J7
CATEGORIES:Recreation,Social
ATTACH;FMTTYPE=image/jpeg:https://lv50fitandfeisty.ca/wp-content/uploads/2025/02/anastase-maragos-X4zx5Vc_LZU-unsplash-scaled.jpg
ORGANIZER;CN="LV50+ Fit & Feisty":MAILTO:fitandfeisty50@gmail.com
END:VEVENT
BEGIN:VEVENT
DTSTART;TZID=America/Toronto:20260302T193000
DTEND;TZID=America/Toronto:20260302T203000
DTSTAMP:20260420T050536
CREATED:20251224T155039Z
LAST-MODIFIED:20260326T203941Z
UID:10002509-1772479800-1772483400@lv50fitandfeisty.ca
SUMMARY:Pickleball
DESCRIPTION:Bring indoor shoes.   Register on PlayTime Scheduler.
URL:https://lv50fitandfeisty.ca/event/pickleball-36/2026-03-02/
LOCATION:Zion Lutheran Church\, 454 Miller Street\, Pembroke\, ON\, K8A 5Z4\, Canada
CATEGORIES:Fitness,Recreation
ATTACH;FMTTYPE=image/jpeg:https://lv50fitandfeisty.ca/wp-content/uploads/2025/07/pickleball-match-2-scaled.jpeg
ORGANIZER;CN="LV50+ Fit & Feisty":MAILTO:fitandfeisty50@gmail.com
END:VEVENT
END:VCALENDAR