BEGIN:VCALENDAR
VERSION:2.0
PRODID:-// - ECPv6.15.17.1//NONSGML v1.0//EN
CALSCALE:GREGORIAN
METHOD:PUBLISH
X-ORIGINAL-URL:https://lv50fitandfeisty.ca
X-WR-CALDESC:Events for 
REFRESH-INTERVAL;VALUE=DURATION:PT1H
X-Robots-Tag:noindex
X-PUBLISHED-TTL:PT1H
BEGIN:VTIMEZONE
TZID:America/Toronto
BEGIN:DAYLIGHT
TZOFFSETFROM:-0500
TZOFFSETTO:-0400
TZNAME:EDT
DTSTART:20240310T070000
END:DAYLIGHT
BEGIN:STANDARD
TZOFFSETFROM:-0400
TZOFFSETTO:-0500
TZNAME:EST
DTSTART:20241103T060000
END:STANDARD
BEGIN:DAYLIGHT
TZOFFSETFROM:-0500
TZOFFSETTO:-0400
TZNAME:EDT
DTSTART:20250309T070000
END:DAYLIGHT
BEGIN:STANDARD
TZOFFSETFROM:-0400
TZOFFSETTO:-0500
TZNAME:EST
DTSTART:20251102T060000
END:STANDARD
BEGIN:DAYLIGHT
TZOFFSETFROM:-0500
TZOFFSETTO:-0400
TZNAME:EDT
DTSTART:20260308T070000
END:DAYLIGHT
BEGIN:STANDARD
TZOFFSETFROM:-0400
TZOFFSETTO:-0500
TZNAME:EST
DTSTART:20261101T060000
END:STANDARD
END:VTIMEZONE
BEGIN:VEVENT
DTSTART;TZID=America/Toronto:20250820T150000
DTEND;TZID=America/Toronto:20250820T180000
DTSTAMP:20260421T234647
CREATED:20250730T165720Z
LAST-MODIFIED:20250813T131414Z
UID:1383-1755702000-1755712800@lv50fitandfeisty.ca
SUMMARY:Volunteer Appreciation & Open House BBQ
DESCRIPTION:Live Music by SPARE CHANGE\, Bocce Ball\, Cornhole\, Croquet\, Pickleball and lots of information. \nBBQ is open to anyone 50+. Members $10.00 Non-Members $15.00 \nMenu – FRENCH FRIES OR POUTINE donated by KEVIN NAGORA & JUDY ZANDSTRA with BBQ Hamburgers or Jumbo Hot Dogs\, Ice Cream\, Gluten-Free Available (PLEASE INDICATE WHEN REGISTERING) \nWe have over 80 volunteers and would like to thank you for helping out at Fit &amp; Feisty events. In appreciation for volunteering\, you will receive a free BBQ meal. Please register as a volunteer. \nEveryone attending the BBQ must register by Aug. 15 th by emailing fitandfeisty50@gmail.com\nIndicate if you are a volunteer\, a member\, a guest or gluten free. Cash bar…No coolers allowed. Bring your lawn chair.\nAn electronic registration station with limited availability will be set up to renew or purchase new memberships for the 2025/2026 season for anyone requiring assistance in registering electronically. \nWe will have assistance available September onwards at Coffee Connect from 9:30 – 10 am.
URL:https://lv50fitandfeisty.ca/event/volunteer-appreciation-open-house-bbq/
LOCATION:Alice and Fraser Rec Centre\, 1 Henan Road\, Pembroke\, ON\, K8A 6W8\, Canada
CATEGORIES:FEATURED EVENTS,Operational,Recreation,Social
ATTACH;FMTTYPE=image/jpeg:https://lv50fitandfeisty.ca/wp-content/uploads/2025/07/BBQ-appreciation.jpg
ORGANIZER;CN="LV50+ Fit & Feisty":MAILTO:fitandfeisty50@gmail.com
END:VEVENT
END:VCALENDAR