BEGIN:VCALENDAR
VERSION:2.0
PRODID:-// - ECPv6.15.17.1//NONSGML v1.0//EN
CALSCALE:GREGORIAN
METHOD:PUBLISH
X-ORIGINAL-URL:https://lv50fitandfeisty.ca
X-WR-CALDESC:Events for 
REFRESH-INTERVAL;VALUE=DURATION:PT1H
X-Robots-Tag:noindex
X-PUBLISHED-TTL:PT1H
BEGIN:VTIMEZONE
TZID:America/Toronto
BEGIN:DAYLIGHT
TZOFFSETFROM:-0500
TZOFFSETTO:-0400
TZNAME:EDT
DTSTART:20240310T070000
END:DAYLIGHT
BEGIN:STANDARD
TZOFFSETFROM:-0400
TZOFFSETTO:-0500
TZNAME:EST
DTSTART:20241103T060000
END:STANDARD
BEGIN:DAYLIGHT
TZOFFSETFROM:-0500
TZOFFSETTO:-0400
TZNAME:EDT
DTSTART:20250309T070000
END:DAYLIGHT
BEGIN:STANDARD
TZOFFSETFROM:-0400
TZOFFSETTO:-0500
TZNAME:EST
DTSTART:20251102T060000
END:STANDARD
BEGIN:DAYLIGHT
TZOFFSETFROM:-0500
TZOFFSETTO:-0400
TZNAME:EDT
DTSTART:20260308T070000
END:DAYLIGHT
BEGIN:STANDARD
TZOFFSETFROM:-0400
TZOFFSETTO:-0500
TZNAME:EST
DTSTART:20261101T060000
END:STANDARD
END:VTIMEZONE
BEGIN:VEVENT
DTSTART;TZID=America/Toronto:20250627T193000
DTEND;TZID=America/Toronto:20250627T213000
DTSTAMP:20260421T132435
CREATED:20250526T170144Z
LAST-MODIFIED:20250526T170144Z
UID:406-1751052600-1751059800@lv50fitandfeisty.ca
SUMMARY:ONE MAN 3 Legends
DESCRIPTION:ONE MAN 3 Legends SHOW featuring the music of Roy Orbison\, Johnny Cash & Elvis on Friday June 27th @ 7:30pm \nRegular Price for tickets is $35. We have purchased 50 tickets and our price to F&F members only is $25. \nOur tickets are on sale until June 7th. After this date they can be purchased through the Germania Hall at regular ticket price.
URL:https://lv50fitandfeisty.ca/event/one-man-3-legends/
LOCATION:Germania Club Pembroke\, 15 Bennett Street\, Pembroke\, ON\, K8A 3Y6
CATEGORIES:Entertainment,Social
ATTACH;FMTTYPE=image/jpeg:https://lv50fitandfeisty.ca/wp-content/uploads/2025/05/one-man-three-legends.jpg
ORGANIZER;CN="LV50+ Fit & Feisty":MAILTO:fitandfeisty50@gmail.com
END:VEVENT
END:VCALENDAR