BEGIN:VCALENDAR
VERSION:2.0
PRODID:-// - ECPv6.15.17.1//NONSGML v1.0//EN
CALSCALE:GREGORIAN
METHOD:PUBLISH
X-ORIGINAL-URL:https://lv50fitandfeisty.ca
X-WR-CALDESC:Events for 
REFRESH-INTERVAL;VALUE=DURATION:PT1H
X-Robots-Tag:noindex
X-PUBLISHED-TTL:PT1H
BEGIN:VTIMEZONE
TZID:America/Toronto
BEGIN:DAYLIGHT
TZOFFSETFROM:-0500
TZOFFSETTO:-0400
TZNAME:EDT
DTSTART:20240310T070000
END:DAYLIGHT
BEGIN:STANDARD
TZOFFSETFROM:-0400
TZOFFSETTO:-0500
TZNAME:EST
DTSTART:20241103T060000
END:STANDARD
BEGIN:DAYLIGHT
TZOFFSETFROM:-0500
TZOFFSETTO:-0400
TZNAME:EDT
DTSTART:20250309T070000
END:DAYLIGHT
BEGIN:STANDARD
TZOFFSETFROM:-0400
TZOFFSETTO:-0500
TZNAME:EST
DTSTART:20251102T060000
END:STANDARD
BEGIN:DAYLIGHT
TZOFFSETFROM:-0500
TZOFFSETTO:-0400
TZNAME:EDT
DTSTART:20260308T070000
END:DAYLIGHT
BEGIN:STANDARD
TZOFFSETFROM:-0400
TZOFFSETTO:-0500
TZNAME:EST
DTSTART:20261101T060000
END:STANDARD
END:VTIMEZONE
BEGIN:VEVENT
DTSTART;TZID=America/Toronto:20250811T100000
DTEND;TZID=America/Toronto:20250811T170000
DTSTAMP:20260425T100343
CREATED:20250728T165205Z
LAST-MODIFIED:20250728T165205Z
UID:1326-1754906400-1754931600@lv50fitandfeisty.ca
SUMMARY:Golf
DESCRIPTION:Regular 9 holes. \nPlease register by August 3
URL:https://lv50fitandfeisty.ca/event/golf-10/
LOCATION:Pembroke Golf Club\, 253 Golf Course Rd\, Pembroke\, ON\, K8A 7M1
CATEGORIES:Recreation,Social
ATTACH;FMTTYPE=image/jpeg:https://lv50fitandfeisty.ca/wp-content/uploads/2025/05/golf-pic-3-scaled.jpg
ORGANIZER;CN="LV50+ Fit & Feisty":MAILTO:fitandfeisty50@gmail.com
END:VEVENT
END:VCALENDAR